BEGIN:VCALENDAR
VERSION:2.0
PRODID:-//wp-events-plugin.com//7.2.3.1//EN
TZID:America/Indiana/Indianapolis
X-WR-TIMEZONE:America/Indiana/Indianapolis
BEGIN:VEVENT
UID:6675@n9eoc.org
DTSTART;TZID=America/Indiana/Indianapolis:20260423T200000
DTEND;TZID=America/Indiana/Indianapolis:20260423T200000
DTSTAMP:20260419T172419Z
URL:https://n9eoc.org/events/hortonville-who-knows-what-net-2-2026-04-23/
SUMMARY:Hortonville "Who Knows What Net"
DESCRIPTION:443.95MHZ with a 77hz tone
CATEGORIES:CIARA Net
END:VEVENT
BEGIN:VTIMEZONE
TZID:America/Indiana/Indianapolis
X-LIC-LOCATION:America/Indiana/Indianapolis
BEGIN:DAYLIGHT
DTSTART:20260308T030000
TZOFFSETFROM:-0500
TZOFFSETTO:-0400
TZNAME:EDT
END:DAYLIGHT
END:VTIMEZONE
END:VCALENDAR