BEGIN:VCALENDAR
VERSION:2.0
PRODID:-//wp-events-plugin.com//7.2.3.1//EN
TZID:America/Indiana/Indianapolis
X-WR-TIMEZONE:America/Indiana/Indianapolis
BEGIN:VEVENT
UID:6673@n9eoc.org
DTSTART;TZID=America/Indiana/Indianapolis:20280408T080000
DTEND;TZID=America/Indiana/Indianapolis:20280408T091500
DTSTAMP:20260419T171001Z
URL:https://n9eoc.org/events/ciara-club-meeting-2-2028-04-08/
SUMMARY:Ciara Club Meeting
DESCRIPTION:As you pull in\, drive all the way up and follow the road to th
 e right and through the gate.\nPark on the North side. Go to door 1\, some
 one will be outside to let you in.\nIf you get there late\, have a radio w
 ith you and call in on the Noblesville repeater so we can let you in.
CATEGORIES:CIARA Meeting
LOCATION:Hamilton County Emergency Operations Center\, 18100 Cumberland RD\
 , Noblesville\, IN\, 46060\, United States
X-APPLE-STRUCTURED-LOCATION;VALUE=URI;X-ADDRESS=18100 Cumberland RD\, Noble
 sville\, IN\, 46060\, United States;X-APPLE-RADIUS=100;X-TITLE=Hamilton Co
 unty Emergency Operations Center:geo:0,0
END:VEVENT
BEGIN:VTIMEZONE
TZID:America/Indiana/Indianapolis
X-LIC-LOCATION:America/Indiana/Indianapolis
BEGIN:DAYLIGHT
DTSTART:20280312T030000
TZOFFSETFROM:-0500
TZOFFSETTO:-0400
TZNAME:EDT
END:DAYLIGHT
END:VTIMEZONE
END:VCALENDAR