BEGIN:VCALENDAR
VERSION:2.0
PRODID:-//wp-events-plugin.com//7.2.3.1//EN
TZID:America/Indiana/Indianapolis
X-WR-TIMEZONE:America/Indiana/Indianapolis
BEGIN:VEVENT
UID:6580@n9eoc.org
DTSTART;TZID=America/Indiana/Indianapolis:20260509T060000
DTEND;TZID=America/Indiana/Indianapolis:20260509T073000
DTSTAMP:20260419T170130Z
URL:https://n9eoc.org/events/ciara-breakfast-2025-04-12-2025-05-10-2025-06
 -14-2025-07-12-2025-08-09-2025-09-13-2025-10-11-2025-11-08-2025-12-13-2026
 -01-10-2026-02-14-2026-03-14-2026-04-11-2026-05-09/
SUMMARY:Ciara Breakfast
DESCRIPTION:
CATEGORIES:CIARA Outing
LOCATION:Perkins Restaurant & Bakery\, 250 Noble Creek Dr\, Noblesville\, I
 N\, 46060\, United Kingdom
X-APPLE-STRUCTURED-LOCATION;VALUE=URI;X-ADDRESS=250 Noble Creek Dr\, Nobles
 ville\, IN\, 46060\, United Kingdom;X-APPLE-RADIUS=100;X-TITLE=Perkins Res
 taurant & Bakery:geo:0,0
END:VEVENT
BEGIN:VTIMEZONE
TZID:America/Indiana/Indianapolis
X-LIC-LOCATION:America/Indiana/Indianapolis
BEGIN:DAYLIGHT
DTSTART:20260308T030000
TZOFFSETFROM:-0500
TZOFFSETTO:-0400
TZNAME:EDT
END:DAYLIGHT
END:VTIMEZONE
END:VCALENDAR